BEGIN:VCALENDAR
VERSION:2.0
CALSCALE:GREGORIAN
PRODID:UW-Madison-Physics-Events
BEGIN:VEVENT
SEQUENCE:0
UID:UW-Physics-Event-2566
DTSTART:20120207T180500Z
DURATION:PT1H0M0S
DTSTAMP:20260420T071954Z
LAST-MODIFIED:20120123T151836Z
LOCATION:4274 Chamberlin
SUMMARY:Social networking sites and adolescent health\, Chaos & Comple
 x Systems Seminar\, Megan A. Moreno\, UW School of Medicine and Public
  Health
DESCRIPTION:Revolutionary advances in biological and biomedical imagin
 g over the last twenty years have brought about the development of imp
 roved methods for non-invasively imaging dynamic biological processes.
  Of particular significance have been optical (photonic) techniques th
 at have allowed for the visualization and manipulation of molecular an
 d cellular structures within living tissue with minimal perturbation. 
 The efforts of the multidisciplinary UW-Madison Laboratory for Optical
  and Social networking sites are popular among adolescents and college
  students.  References to health behaviors and conditions\, such as al
 cohol and depression\, are frequently seen on these sites.  The meanin
 g and influence of such displays is currently under investigation and 
 will be  explored in this talk.<br><br>\n
URL:https://www.physics.wisc.edu/events/?id=2566
END:VEVENT
END:VCALENDAR
