BEGIN:VCALENDAR
VERSION:2.0
CALSCALE:GREGORIAN
PRODID:UW-Madison-Physics-Events
BEGIN:VEVENT
SEQUENCE:0
UID:UW-Physics-Event-2568
DTSTART:20120221T180500Z
DURATION:PT1H0M0S
DTSTAMP:20260420T062156Z
LAST-MODIFIED:20120123T151821Z
LOCATION:4274 Chamberlin
SUMMARY:Evolution of intelligence\, Chaos & Complex Systems Seminar\, 
 David Krakauer\, Director\, Wisconsin Institute for Discovery
DESCRIPTION:In this lecture I shall survey key ideas from the history 
 of mathematics\, physics\, computation\, and biology that have extraor
 dinarily converged on very similar explanations for adaptive or select
 ive behavior. This convergence presents itself in the form of a univer
 sal structure in all models describing adaptive search in high dimensi
 onal state spaces. I shall describe how intelligent mechanisms\, to in
 clude nervous systems\, evolved to overcome a fundamental limit to the
  velocity of evolutionary adaptation. 
URL:https://www.physics.wisc.edu/events/?id=2568
END:VEVENT
END:VCALENDAR
