BEGIN:VCALENDAR
VERSION:2.0
CALSCALE:GREGORIAN
PRODID:UW-Madison-Physics-Events
BEGIN:VEVENT
SEQUENCE:0
UID:UW-Physics-Event-2570
DTSTART:20120306T180500Z
DURATION:PT1H0M0S
DTSTAMP:20260420T062624Z
LAST-MODIFIED:20120123T151803Z
LOCATION:4274 Chamberlin
SUMMARY:Perturbation in the system: Creative network practice\, Chaos 
 & Complex Systems Seminar\, Michelle Riel\, Artist\, Designer\, Theori
 st
DESCRIPTION:In art practice\, use of computers\, electronics\, and tel
 ecommunications began in the 1960s. What then differs in today's creat
 ive network practice?  In particular\, chance operations of seminal 20
 th century artists and exploration of systems theory by mid-century ar
 tists have become the dynamical systems of today's creatives who emplo
 y coding\, physical computing\, and emerging networked technologies an
 d methods. I relate historical precursors to current work and discuss 
 how network practices employ non-linear dynamic processes.
URL:https://www.physics.wisc.edu/events/?id=2570
END:VEVENT
END:VCALENDAR
