BEGIN:VCALENDAR
VERSION:2.0
CALSCALE:GREGORIAN
PRODID:UW-Madison-Physics-Events
BEGIN:VEVENT
SEQUENCE:0
UID:UW-Physics-Event-2572
DTSTART:20120320T170500Z
DURATION:PT1H0M0S
DTSTAMP:20260420T071744Z
LAST-MODIFIED:20120123T151642Z
LOCATION:4274 Chamberlin
SUMMARY:Rise and fall of a billion dollar molecule\, Chaos & Complex S
 ystems Seminar\,  Olga Trubetskoy\, UW Departments of Pharmacy and Com
 parative Biosciences
DESCRIPTION:I will discuss a story of a aEurooebillion dollar molecule
 aEuro that has been recently revisited on national drug discovery rada
 r and will provide its less known links and direct connections to the 
 history of local Madison biotech.  The presentation will focus on over
 all complexity of drug response in humans including drug metabolism an
 d toxicity on molecular\, cellular\, organismal and environmental leve
 ls including effects of some specific human factors and current person
 alized  medicine approach. 
URL:https://www.physics.wisc.edu/events/?id=2572
END:VEVENT
END:VCALENDAR
