BEGIN:VCALENDAR
VERSION:2.0
CALSCALE:GREGORIAN
PRODID:UW-Madison-Physics-Events
BEGIN:VEVENT
SEQUENCE:0
UID:UW-Physics-Event-2573
DTSTART:20120327T170500Z
DURATION:PT1H0M0S
DTSTAMP:20260420T071547Z
LAST-MODIFIED:20120123T151741Z
LOCATION:4274 Chamberlin
SUMMARY:The anatomy of economics\, Chaos & Complex Systems Seminar\,  
 Jim Blair\, Milton and Edgewood College
DESCRIPTION:A- The 3 Levels of economic analysis:  Macro\, Micro\, and
  Nano B- Conflicting schools of Macro Economics:  Demand Side\, Supply
  Side and  Marxist:  John Maynard Keynes\, Frederick Hayek\, and Karl 
 C- Different views of Money and Inflation: Or &quot\;What is Your Posi
 tion on Bimetallism?&quot\; D- Throwing us Curves: Arthur Laffer and W
 illiam Phillips E- Wealth Distribution and Income Mobility: or the "ra
 ce to the bottom".
URL:https://www.physics.wisc.edu/events/?id=2573
END:VEVENT
END:VCALENDAR
