BEGIN:VCALENDAR
VERSION:2.0
CALSCALE:GREGORIAN
PRODID:UW-Madison-Physics-Events
BEGIN:VEVENT
SEQUENCE:0
UID:UW-Physics-Event-2578
DTSTART:20120210T200000Z
DTEND:20120210T210000Z
DTSTAMP:20260420T062449Z
LAST-MODIFIED:20120124T050927Z
LOCATION:5280 Chamberlin Hall
SUMMARY:TBA\, Theory Seminar (High Energy/Cosmology)\, Brock Tweedie\,
  Boston University
DESCRIPTION:
URL:https://www.physics.wisc.edu/events/?id=2578
END:VEVENT
END:VCALENDAR
