BEGIN:VCALENDAR
VERSION:2.0
CALSCALE:GREGORIAN
PRODID:UW-Madison-Physics-Events
BEGIN:VEVENT
SEQUENCE:0
UID:UW-Physics-Event-2580
DTSTART:20120224T200000Z
DTEND:20120224T210000Z
DTSTAMP:20260420T071546Z
LAST-MODIFIED:20120124T051316Z
LOCATION:5280 Chamberlin Hall
SUMMARY:TBA\, Theory Seminar (High Energy/Cosmology)\, JiJi Fan\, Prin
 ceton University
DESCRIPTION:
URL:https://www.physics.wisc.edu/events/?id=2580
END:VEVENT
END:VCALENDAR
