BEGIN:VCALENDAR
VERSION:2.0
CALSCALE:GREGORIAN
PRODID:UW-Madison-Physics-Events
BEGIN:VEVENT
SEQUENCE:0
UID:UW-Physics-Event-2581
DTSTART:20120228T220000Z
DTEND:20120228T230000Z
DTSTAMP:20260420T071815Z
LAST-MODIFIED:20120124T051500Z
LOCATION:5280 Chamberlin Hall
SUMMARY:TBA\, Theory Seminar (High Energy/Cosmology)\, Yang Bai\, SLAC
DESCRIPTION:
URL:https://www.physics.wisc.edu/events/?id=2581
END:VEVENT
END:VCALENDAR
