BEGIN:VCALENDAR
VERSION:2.0
CALSCALE:GREGORIAN
PRODID:UW-Madison-Physics-Events
BEGIN:VEVENT
SEQUENCE:0
UID:UW-Physics-Event-2582
DTSTART:20120302T200000Z
DTEND:20120302T210000Z
DTSTAMP:20260420T062257Z
LAST-MODIFIED:20120124T051937Z
LOCATION:5280 Chamberlin Hall
SUMMARY:TBA\, Theory Seminar (High Energy/Cosmology)\, Liam Fitzpatric
 k\, Stanford University
DESCRIPTION:
URL:https://www.physics.wisc.edu/events/?id=2582
END:VEVENT
END:VCALENDAR
