BEGIN:VCALENDAR
VERSION:2.0
CALSCALE:GREGORIAN
PRODID:UW-Madison-Physics-Events
BEGIN:VEVENT
SEQUENCE:0
UID:UW-Physics-Event-2601
DTSTART:20120319T213000Z
DURATION:PT1H0M0S
DTSTAMP:20260420T071621Z
LAST-MODIFIED:20120307T185345Z
LOCATION:5310 Chamberlin
SUMMARY:Quantum criticality of vanadium chains with strong relativisti
 c spin-orbit interaction\, Condensed Matter Theory Group Seminar\, Nat
 alia Perkins\, UW-Madison
DESCRIPTION:
URL:https://www.physics.wisc.edu/events/?id=2601
END:VEVENT
END:VCALENDAR
