BEGIN:VCALENDAR
VERSION:2.0
CALSCALE:GREGORIAN
PRODID:UW-Madison-Physics-Events
BEGIN:VEVENT
SEQUENCE:0
UID:UW-Physics-Event-2606
DTSTART:20120312T213000Z
DURATION:PT1H0M0S
DTSTAMP:20260420T062818Z
LAST-MODIFIED:20120307T185411Z
LOCATION:5310 Chamberlin
SUMMARY:Electroweak Phase Transition\, Condensed Matter Theory Group S
 eminar\, Michael Ramsey-Musolf\, UW-Madison
DESCRIPTION:
URL:https://www.physics.wisc.edu/events/?id=2606
END:VEVENT
END:VCALENDAR
