BEGIN:VCALENDAR
VERSION:2.0
CALSCALE:GREGORIAN
PRODID:UW-Madison-Physics-Events
BEGIN:VEVENT
SEQUENCE:0
UID:UW-Physics-Event-2615
DTSTART:20120301T180000Z
DURATION:PT1H0M0S
DTSTAMP:20260420T062820Z
LAST-MODIFIED:20120217T205100Z
LOCATION:4274 Chamberlin
SUMMARY:Rotation and turbulence in laboratory and astrophysical system
 s\, Plasma Physics (Physics/ECE/NE 922) Seminar\, Eric Edlund\, Prince
 ton Plasma Physics Laboratory
DESCRIPTION:
URL:https://www.physics.wisc.edu/events/?id=2615
END:VEVENT
END:VCALENDAR
