BEGIN:VCALENDAR
VERSION:2.0
CALSCALE:GREGORIAN
PRODID:UW-Madison-Physics-Events
BEGIN:VEVENT
SEQUENCE:0
UID:UW-Physics-Event-2623
DTSTART:20120309T181500Z
DURATION:PT1H0M0S
DTSTAMP:20260420T062448Z
LAST-MODIFIED:20120307T201219Z
LOCATION:5310 Chamberlin Hall
SUMMARY:Department Meeting
DESCRIPTION:
URL:https://www.physics.wisc.edu/events/?id=2623
END:VEVENT
END:VCALENDAR
