BEGIN:VCALENDAR
VERSION:2.0
CALSCALE:GREGORIAN
PRODID:UW-Madison-Physics-Events
BEGIN:VEVENT
SEQUENCE:0
UID:UW-Physics-Event-2629
DTSTART:20120426T193000Z
DURATION:PT1H0M0S
DTSTAMP:20260420T062201Z
LAST-MODIFIED:20120420T163529Z
LOCATION:4274 Chamberlin
SUMMARY:Dark Matter from Weak Polyplets\, NPAC (Nuclear/Particle/Astro
 /Cosmo) Forum\, Jennifer Kile\, Northwestern University
DESCRIPTION:We investigate the possibility of new fermion multiplets c
 harged under the Standard Model gauge group\, with the aim of obtainin
 g a possible dark matter candidate.  These new fermions are charged un
 der SU(2)xU(1)\; their quantum numbers are determined by requiring ano
 maly cancellation and insisting that all new particles become massive 
 via Yukawa couplings with the SM Higgs boson. Constraints from collide
 rs\, electroweak precision measurements\, and DM direct detection are 
 considered\; we find that this model can accommodate a viable DM candi
 date.
URL:https://www.physics.wisc.edu/events/?id=2629
END:VEVENT
END:VCALENDAR
