BEGIN:VCALENDAR
VERSION:2.0
CALSCALE:GREGORIAN
PRODID:UW-Madison-Physics-Events
BEGIN:VEVENT
SEQUENCE:0
UID:UW-Physics-Event-2633
DTSTART:20120504T180000Z
DURATION:PT1H0M0S
DTSTAMP:20260420T041032Z
LAST-MODIFIED:20120504T164152Z
LOCATION:5280 Chamberlin Hall
SUMMARY:VBFNLO: vector boson fusion and more\, Theory Seminar (High En
 ergy/Cosmology)\, Dieter Zeppenfeld\, Karlsruhe Institute of Technolog
 y
DESCRIPTION:
URL:https://www.physics.wisc.edu/events/?id=2633
END:VEVENT
END:VCALENDAR
