BEGIN:VCALENDAR
VERSION:2.0
CALSCALE:GREGORIAN
PRODID:UW-Madison-Physics-Events
BEGIN:VEVENT
SEQUENCE:0
UID:UW-Physics-Event-2643
DTSTART:20120508T170500Z
DURATION:PT1H0M0S
DTSTAMP:20260420T041142Z
LAST-MODIFIED:20120405T222639Z
LOCATION:4274 Chamberlin
SUMMARY:Are you holding your breath?  - Structures of arousal and calm
 \, Chaos & Complex Systems Seminar\, Deric Bownds\, UW Department of Z
 oology
DESCRIPTION:This talk discusses some of the structures of calm and aro
 usal - whether we are chilled out or losing it.   The material is cook
 ed down to four sections\, that (1)\, note some structures regulating 
 calm and arousal  (2)\, list some brain and body correlates (3) consid
 er the definition of the self that stresses or calms.  (4) discuss bot
 tom-up and top-down regulators under some voluntary control that can a
 lter the balance between calm and arousal.  
URL:https://www.physics.wisc.edu/events/?id=2643
END:VEVENT
END:VCALENDAR
