BEGIN:VCALENDAR
VERSION:2.0
CALSCALE:GREGORIAN
PRODID:UW-Madison-Physics-Events
BEGIN:VEVENT
SEQUENCE:0
UID:UW-Physics-Event-2655
DTSTART:20120424T200000Z
DTEND:20120424T210000Z
DTSTAMP:20260420T062157Z
LAST-MODIFIED:20120411T133606Z
LOCATION:5310 Chamberlin Hall
SUMMARY:Experimental Muon Physics: an Overview\, High Energy Seminar\,
  David Webber\, University of Wisconsin Madison
DESCRIPTION:According to the Standard Model of particle physics\, muon
 s behave like<br>\nheavy electrons which decay only via the weak forc
 e.  Their properties<br>\nmake them especially well-suited to precisi
 on measurements of<br>\nfundamental parameters of the Standard Model\
 , as well as searches for<br>\nphysics beyond the Standard Model.  Mu
 ons have the longest lifetime of<br>\nany fundamental particle which 
 still decays\, allowing them to form<br>\nchemical bound states and p
 robe the structure of the proton.<br>\nAdditionally\, muon decay maxi
 mally violates parity\, correlating the<br>\ndecay electron with the 
 muon's spin and enabling measurements of g-2.<br>\nIn this talk\, sev
 eral recent experimental results will be reviewed\,<br>\nand some upc
 oming experiments will be presented.
URL:https://www.physics.wisc.edu/events/?id=2655
END:VEVENT
END:VCALENDAR
