BEGIN:VCALENDAR
VERSION:2.0
CALSCALE:GREGORIAN
PRODID:UW-Madison-Physics-Events
BEGIN:VEVENT
SEQUENCE:0
UID:UW-Physics-Event-2667
DTSTART:20120504T190000Z
DURATION:PT1H0M0S
DTSTAMP:20260420T041217Z
LAST-MODIFIED:20120504T184002Z
LOCATION:4274 Chamberlin
SUMMARY:Uncovering the nature of neutrinos via double beta decay\, NPA
 C (Nuclear/Particle/Astro/Cosmo) Forum\, Allen Caldwell\, Director\, M
 ax Planck Institute for Physics\, Munich\, Germany
DESCRIPTION:Whether or not the neutrino is a Majorana particle is a fu
 ndamental question in particle physics. The search for neutrinoless do
 uble beta decay is a direct attempt to answer this question. The GERDA
  experiment\, which started taking data last year\, is such a search. 
 After an introduction\, the experiment status and plans will be descri
 bed.
URL:https://www.physics.wisc.edu/events/?id=2667
END:VEVENT
END:VCALENDAR
