BEGIN:VCALENDAR
VERSION:2.0
CALSCALE:GREGORIAN
PRODID:UW-Madison-Physics-Events
BEGIN:VEVENT
SEQUENCE:0
UID:UW-Physics-Event-2685
DTSTART:20120619T160000Z
DTEND:20120619T170000Z
DTSTAMP:20260420T041031Z
LAST-MODIFIED:20120612T155319Z
LOCATION:Chamberlin 4274
SUMMARY:Spherical dynamo: effect of the boundary conditions and flow o
 ptimization\, CMSO Teleconference Seminar\, Ivan Khalzov\, UW Madison
DESCRIPTION:
URL:https://www.physics.wisc.edu/events/?id=2685
END:VEVENT
END:VCALENDAR
