BEGIN:VCALENDAR
VERSION:2.0
CALSCALE:GREGORIAN
PRODID:UW-Madison-Physics-Events
BEGIN:VEVENT
SEQUENCE:0
UID:UW-Physics-Event-2686
DTSTART:20120626T160000Z
DTEND:20120626T170000Z
DTSTAMP:20260420T041142Z
LAST-MODIFIED:20120613T140307Z
LOCATION:Chamberlin 4274
SUMMARY:Guide Field Effects on Hall Reconnection in MRX\, CMSO Telecon
 ference Seminar\, Tim Tharp\, Princeton Plasma Physics Lab
DESCRIPTION:
URL:https://www.physics.wisc.edu/events/?id=2686
END:VEVENT
END:VCALENDAR
