BEGIN:VCALENDAR
VERSION:2.0
CALSCALE:GREGORIAN
PRODID:UW-Madison-Physics-Events
BEGIN:VEVENT
SEQUENCE:0
UID:UW-Physics-Event-2693
DTSTART:20120717T000000Z
DURATION:PT1H0M0S
DTSTAMP:20260420T041216Z
LAST-MODIFIED:20120711T182007Z
LOCATION:2241 Chamberlin Hall
SUMMARY:The Hunt for the Higgs Boson\, Department of Physics Public Le
 cture\, Sridhara Dasu\, UW department of Physics
DESCRIPTION:
URL:https://www.physics.wisc.edu/events/?id=2693
END:VEVENT
END:VCALENDAR
