BEGIN:VCALENDAR
VERSION:2.0
CALSCALE:GREGORIAN
PRODID:UW-Madison-Physics-Events
BEGIN:VEVENT
SEQUENCE:0
UID:UW-Physics-Event-2694
DTSTART:20121019T203000Z
DURATION:PT1H0M0S
DTSTAMP:20260420T021732Z
LAST-MODIFIED:20120919T204738Z
LOCATION:2241 Chamberlin Hall (coffee at 4:30 pm)
SUMMARY:Discovery of the Higgs Boson - the God Particle\, Physics Depa
 rtment Colloquium\, Sau Lan Wu\, UW-Madison
DESCRIPTION:The recent experimental discovery of the Higgs particle ha
 s involved the hard work of thousands of scientists from 56 countries 
 around the world for more than two decades. The Higgs particle is resp
 onsible for all masses of the universe. This is the discovery of the d
 ecades in physics\, and was accomplished at the Large Hadron Collider 
 of CERN\, Geneva\, Switzerland. In this presentation\, Enrico Fermi an
 d Vilas Professor of physics Sau Lan Wu will speak on this discovery a
 nd the seminal role her research group and UW-Madison played. 
URL:https://www.physics.wisc.edu/events/?id=2694
END:VEVENT
END:VCALENDAR
