BEGIN:VCALENDAR
VERSION:2.0
CALSCALE:GREGORIAN
PRODID:UW-Madison-Physics-Events
BEGIN:VEVENT
SEQUENCE:0
UID:UW-Physics-Event-2697
DTSTART:20121109T213000Z
DURATION:PT1H0M0S
DTSTAMP:20260420T021403Z
LAST-MODIFIED:20121105T213841Z
LOCATION:2241 Chamberlin Hall (coffee at 4:30 pm)
SUMMARY:Unexpected\, new Particle Physics presenting itself in UHECR a
 ir showers\, Physics Department Colloquium\, Glennys Farrar\, New York
  University
DESCRIPTION:
URL:https://www.physics.wisc.edu/events/?id=2697
END:VEVENT
END:VCALENDAR
