BEGIN:VCALENDAR
VERSION:2.0
CALSCALE:GREGORIAN
PRODID:UW-Madison-Physics-Events
BEGIN:VEVENT
SEQUENCE:0
UID:UW-Physics-Event-2718
DTSTART:20120919T171500Z
DURATION:PT1H0M0S
DTSTAMP:20260420T035122Z
LAST-MODIFIED:20120919T140924Z
LOCATION:5310 Chamberlin Hall
SUMMARY:Department Meeting
DESCRIPTION:
URL:https://www.physics.wisc.edu/events/?id=2718
END:VEVENT
END:VCALENDAR
