BEGIN:VCALENDAR
VERSION:2.0
CALSCALE:GREGORIAN
PRODID:UW-Madison-Physics-Events
BEGIN:VEVENT
SEQUENCE:0
UID:UW-Physics-Event-2719
DTSTART:20121003T171500Z
DURATION:PT1H0M0S
DTSTAMP:20260420T035017Z
LAST-MODIFIED:20120821T143212Z
LOCATION:5310 Chamberlin Hall
SUMMARY:Department Meeting
DESCRIPTION:
URL:https://www.physics.wisc.edu/events/?id=2719
END:VEVENT
END:VCALENDAR
