BEGIN:VCALENDAR
VERSION:2.0
CALSCALE:GREGORIAN
PRODID:UW-Madison-Physics-Events
BEGIN:VEVENT
SEQUENCE:0
UID:UW-Physics-Event-2720
DTSTART:20121017T171500Z
DURATION:PT1H0M0S
DTSTAMP:20260420T021618Z
LAST-MODIFIED:20120821T143319Z
LOCATION:5310 Chamberlin Hall
SUMMARY:Department Meeting
DESCRIPTION:
URL:https://www.physics.wisc.edu/events/?id=2720
END:VEVENT
END:VCALENDAR
