BEGIN:VCALENDAR
VERSION:2.0
CALSCALE:GREGORIAN
PRODID:UW-Madison-Physics-Events
BEGIN:VEVENT
SEQUENCE:0
UID:UW-Physics-Event-2722
DTSTART:20121114T181500Z
DURATION:PT1H0M0S
DTSTAMP:20260420T035036Z
LAST-MODIFIED:20121114T171011Z
LOCATION:5310 Chamberlin Hall
SUMMARY:Department Meeting
DESCRIPTION:TOPICS<br>\n* Update and Announcements by Chair<br>\n* M
 atters Arising<br>\n<br>\nCLOSED MEETING<br>\n*Closed meeting to di
 scuss personnel matters pursuant to Section 19.85(1)(c). Closed to all
  but Associate Professors and Full Professors.<br>\n * Possible Promo
 tion of Assistant --Second Discussion<br>\n<br>\nANNOUNCEMENTS<br>\
 n* Congratulations to Duncan L. Carlsmith and Larry Watson for being n
 amed 2012 UW Teaching Academy Fellows. <br>\n* The dates for the pros
 pective grad visits for 2013 have been set. They will be March 1-3 and
  March 15-17\, 2013.  If possible\, please reserve these dates now as 
 these are important events in the recruiting process and faculty parti
 cipation is critical.<br>\n* Department Meeting dates are scheduled f
 or November 28th\, and December 12th.<br>\n<br>\n
URL:https://www.physics.wisc.edu/events/?id=2722
END:VEVENT
END:VCALENDAR
