BEGIN:VCALENDAR
VERSION:2.0
CALSCALE:GREGORIAN
PRODID:UW-Madison-Physics-Events
BEGIN:VEVENT
SEQUENCE:0
UID:UW-Physics-Event-2727
DTSTART:20121008T170000Z
DTEND:20121008T180000Z
DTSTAMP:20260420T035035Z
LAST-MODIFIED:20120827T165528Z
LOCATION:1310 Sterling Hall
SUMMARY:No seminar\, Plasma Physics (Physics/ECE/NE 922) Seminar
DESCRIPTION:
URL:https://www.physics.wisc.edu/events/?id=2727
END:VEVENT
END:VCALENDAR
