BEGIN:VCALENDAR
VERSION:2.0
CALSCALE:GREGORIAN
PRODID:UW-Madison-Physics-Events
BEGIN:VEVENT
SEQUENCE:0
UID:UW-Physics-Event-2731
DTSTART:20120924T170000Z
DURATION:PT1H0M0S
DTSTAMP:20260420T034819Z
LAST-MODIFIED:20120911T161226Z
LOCATION:1310 Sterling Hall
SUMMARY:Dynamos in spherical boundary-driven flows\, Plasma Physics (P
 hysics/ECE/NE 922) Seminar\, Ivan Khalzov\, University of Wisconsin-Ma
 dison
DESCRIPTION:
URL:https://www.physics.wisc.edu/events/?id=2731
END:VEVENT
END:VCALENDAR
