BEGIN:VCALENDAR
VERSION:2.0
CALSCALE:GREGORIAN
PRODID:UW-Madison-Physics-Events
BEGIN:VEVENT
SEQUENCE:0
UID:UW-Physics-Event-2732
DTSTART:20121001T170000Z
DURATION:PT1H0M0S
DTSTAMP:20260420T034716Z
LAST-MODIFIED:20120918T162839Z
LOCATION:1310 Sterling Hall
SUMMARY:Neutronics of ARIES and ITER: Progress and Challenges\, Plasma
  Physics (Physics/ECE/NE 922) Seminar\, Laila El-Guebaly\, University 
 of Wisconsin-Madison
DESCRIPTION:
URL:https://www.physics.wisc.edu/events/?id=2732
END:VEVENT
END:VCALENDAR
