BEGIN:VCALENDAR
VERSION:2.0
CALSCALE:GREGORIAN
PRODID:UW-Madison-Physics-Events
BEGIN:VEVENT
SEQUENCE:0
UID:UW-Physics-Event-2733
DTSTART:20121022T170000Z
DURATION:PT1H0M0S
DTSTAMP:20260420T034754Z
LAST-MODIFIED:20121018T154848Z
LOCATION:1310 Sterling Hall
SUMMARY:Local and global plasma response and plasma-facing component p
 erformance of the liquid lithium divertor in NSTX\, Plasma Physics (Ph
 ysics/ECE/NE 922) Seminar\, Michael Jaworski\, Princeton Plasma Physic
 s Laboratory
DESCRIPTION:
URL:https://www.physics.wisc.edu/events/?id=2733
END:VEVENT
END:VCALENDAR
