BEGIN:VCALENDAR
VERSION:2.0
CALSCALE:GREGORIAN
PRODID:UW-Madison-Physics-Events
BEGIN:VEVENT
SEQUENCE:0
UID:UW-Physics-Event-2764
DTSTART:20121018T210000Z
DURATION:PT1H0M0S
DTSTAMP:20260420T034752Z
LAST-MODIFIED:20121017T160329Z
LOCATION:4274 Chamberlin
SUMMARY:Physics in a Big Universe\, NPAC (Nuclear/Particle/Astro/Cosmo
 ) Forum\, Sean Carroll\, Caltech
DESCRIPTION:
URL:https://www.physics.wisc.edu/events/?id=2764
END:VEVENT
END:VCALENDAR
