BEGIN:VCALENDAR
VERSION:2.0
CALSCALE:GREGORIAN
PRODID:UW-Madison-Physics-Events
BEGIN:VEVENT
SEQUENCE:0
UID:UW-Physics-Event-2766
DTSTART:20120913T210000Z
DURATION:PT1H0M0S
DTSTAMP:20260420T022050Z
LAST-MODIFIED:20120906T193230Z
LOCATION:2241 Chamberlin Hall (Food & Soda will be served)
SUMMARY:PUMP Meeting\, Prospective Undergraduate Majors in Physics
DESCRIPTION:Are you interested in majoring in Physics? Wondering what 
 can you do with a Physics Degree? Come to the Prospective Undergraduat
 e Majors in Physics (PUMP) Meeting to learn more.<br><br>\n<br><br>\
 nTopics Include: Why Major in Physics\; What Can You do with a Physics
  Degree\; Major Requirements\; Undergraduate Research Opportunities\; 
 and Tutoring &amp\; Mentoring Opportunities.
URL:https://www.physics.wisc.edu/events/?id=2766
END:VEVENT
END:VCALENDAR
