BEGIN:VCALENDAR
VERSION:2.0
CALSCALE:GREGORIAN
PRODID:UW-Madison-Physics-Events
BEGIN:VEVENT
SEQUENCE:0
UID:UW-Physics-Event-2777
DTSTART:20120913T224500Z
DURATION:PT1H0M0S
DTSTAMP:20260420T034655Z
LAST-MODIFIED:20120912T142846Z
LOCATION:2223 Chamberlin Hall
SUMMARY:Astrophysics I: Experimental Astro/Space Physics\, Graduate In
 troductory Seminar\, McCammon\, Timbie\, UW Madison
DESCRIPTION:
URL:https://www.physics.wisc.edu/events/?id=2777
END:VEVENT
END:VCALENDAR
