BEGIN:VCALENDAR
VERSION:2.0
CALSCALE:GREGORIAN
PRODID:UW-Madison-Physics-Events
BEGIN:VEVENT
SEQUENCE:0
UID:UW-Physics-Event-2778
DTSTART:20120920T224500Z
DURATION:PT1H0M0S
DTSTAMP:20260420T035006Z
LAST-MODIFIED:20120912T142943Z
LOCATION:2223 Chamberlin Hall
SUMMARY:Condensed Matter Experimental\, Graduate Introductory Seminar\
 , Eriksson\, Himpsel\, Lagally\, McDermott\, Onellion\, Rzchowski\, Wi
 nokur\, UW Madison
DESCRIPTION:
URL:https://www.physics.wisc.edu/events/?id=2778
END:VEVENT
END:VCALENDAR
