BEGIN:VCALENDAR
VERSION:2.0
CALSCALE:GREGORIAN
PRODID:UW-Madison-Physics-Events
BEGIN:VEVENT
SEQUENCE:0
UID:UW-Physics-Event-2780
DTSTART:20121004T224500Z
DURATION:PT1H0M0S
DTSTAMP:20260420T021536Z
LAST-MODIFIED:20120912T143119Z
LOCATION:2223 Chamberlin Hall
SUMMARY:High Energy Phenomenology String Theory & Theoretical Cosmolog
 y\, Graduate Introductory Seminar\, Bai\, Barger\, Chung\, Everett\, H
 ashimoto\, Shiu\, UW Madison
DESCRIPTION:
URL:https://www.physics.wisc.edu/events/?id=2780
END:VEVENT
END:VCALENDAR
