BEGIN:VCALENDAR
VERSION:2.0
CALSCALE:GREGORIAN
PRODID:UW-Madison-Physics-Events
BEGIN:VEVENT
SEQUENCE:0
UID:UW-Physics-Event-2782
DTSTART:20121018T224500Z
DURATION:PT1H0M0S
DTSTAMP:20260420T021618Z
LAST-MODIFIED:20120912T143240Z
LOCATION:2223 Chamberlin Hall
SUMMARY:High Energy Collider Experiment\, Graduate Introductory Semina
 r\, Carlsmith\, Dasu\, Herndon\, Mellado\, Pan\, Smith\, Wu\, UW Madis
 on
DESCRIPTION:
URL:https://www.physics.wisc.edu/events/?id=2782
END:VEVENT
END:VCALENDAR
