BEGIN:VCALENDAR
VERSION:2.0
CALSCALE:GREGORIAN
PRODID:UW-Madison-Physics-Events
BEGIN:VEVENT
SEQUENCE:0
UID:UW-Physics-Event-2783
DTSTART:20121025T224500Z
DURATION:PT1H0M0S
DTSTAMP:20260420T021900Z
LAST-MODIFIED:20120912T143329Z
LOCATION:2223 Chamberlin Hall
SUMMARY:Atomic\, Molecular\, and Optical Physics\, Graduate Introducto
 ry Seminar\, Lawler\, Lin\, Saffman\, Walker\, Wehlitz\, Yavuz\, UW Ma
 dison
DESCRIPTION:
URL:https://www.physics.wisc.edu/events/?id=2783
END:VEVENT
END:VCALENDAR
