BEGIN:VCALENDAR
VERSION:2.0
CALSCALE:GREGORIAN
PRODID:UW-Madison-Physics-Events
BEGIN:VEVENT
SEQUENCE:0
UID:UW-Physics-Event-2784
DTSTART:20121101T224500Z
DURATION:PT1H0M0S
DTSTAMP:20260420T021305Z
LAST-MODIFIED:20120912T143659Z
LOCATION:2223 Chamberlin Hall
SUMMARY:Neutrinos\, Dark Matter\, and Fundamental Interactions\, Gradu
 ate Introductory Seminar\, Balantekin\, Heeger\, Maruyama\, Ramsey-Ã‚Â
 ­Musolf\, UW Madison
DESCRIPTION:
URL:https://www.physics.wisc.edu/events/?id=2784
END:VEVENT
END:VCALENDAR
