BEGIN:VCALENDAR
VERSION:2.0
CALSCALE:GREGORIAN
PRODID:UW-Madison-Physics-Events
BEGIN:VEVENT
SEQUENCE:0
UID:UW-Physics-Event-2785
DTSTART:20121108T234500Z
DURATION:PT1H0M0S
DTSTAMP:20260420T034716Z
LAST-MODIFIED:20120912T143831Z
LOCATION:IceCube Offices at 222 W. Washington Avenue
SUMMARY:Astrophysics II: IceCube\, ARA\, DM-Ice\, Graduate Introductor
 y Seminar\, Halzen\, Karle\, Maruyama\, UW Madison
DESCRIPTION:
URL:https://www.physics.wisc.edu/events/?id=2785
END:VEVENT
END:VCALENDAR
