BEGIN:VCALENDAR
VERSION:2.0
CALSCALE:GREGORIAN
PRODID:UW-Madison-Physics-Events
BEGIN:VEVENT
SEQUENCE:0
UID:UW-Physics-Event-2786
DTSTART:20121115T234500Z
DURATION:PT1H0M0S
DTSTAMP:20260420T034832Z
LAST-MODIFIED:20120912T143934Z
LOCATION:2223 Chamberlin Hall
SUMMARY:Plasma Physics\, Graduate Introductory Seminar\, Boldyrev\, Fo
 rest\, Sarff\, Schnack\, Terry\, Zweibel\, UW Madison
DESCRIPTION:
URL:https://www.physics.wisc.edu/events/?id=2786
END:VEVENT
END:VCALENDAR
