BEGIN:VCALENDAR
VERSION:2.0
CALSCALE:GREGORIAN
PRODID:UW-Madison-Physics-Events
BEGIN:VEVENT
SEQUENCE:0
UID:UW-Physics-Event-2793
DTSTART:20121004T203000Z
DTEND:20121004T220000Z
DTSTAMP:20260420T034858Z
LAST-MODIFIED:20120926T130343Z
LOCATION:4421 Sterling Hall
SUMMARY:Probing the Gas Around Galaxies and Black Holes\, Astronomy Co
 lloquium\, Aleks Diamond-Stanic\, UC San Diego
DESCRIPTION:Our understanding of galaxy evolution centers around quest
 ions of how gas gets into galaxies\, how it participates in star forma
 tion and black hole growth\, and how it is returned to its galactic <b
 r>\nsurroundings via feedback.  I will present results on the relatio
 nship between gas that forms stars and gas that accretes onto supermas
 sive black holes\, and the nature of feedback that is capable of remov
 ing gas from galaxies.  These results have important implications for 
 how radiation\, momentum\, and kinetic energy from stars and black hol
 es regulate the cold gas supply in <br>\ngalaxies.  I will also discu
 ss prospects for characterizing the physical properties of gaseous out
 flows and inflows using existing and future facilities.
URL:https://www.physics.wisc.edu/events/?id=2793
END:VEVENT
END:VCALENDAR
