BEGIN:VCALENDAR
VERSION:2.0
CALSCALE:GREGORIAN
PRODID:UW-Madison-Physics-Events
BEGIN:VEVENT
SEQUENCE:0
UID:UW-Physics-Event-2797
DTSTART:20120924T213000Z
DURATION:PT1H0M0S
DTSTAMP:20260420T021528Z
LAST-MODIFIED:20120928T161530Z
LOCATION:5310 Chamberlin
SUMMARY:Pairing near quantum critical points\, Condensed Matter Theory
  Group Seminar\, Andrey Chubukov
DESCRIPTION:
URL:https://www.physics.wisc.edu/events/?id=2797
END:VEVENT
END:VCALENDAR
