BEGIN:VCALENDAR
VERSION:2.0
CALSCALE:GREGORIAN
PRODID:UW-Madison-Physics-Events
BEGIN:VEVENT
SEQUENCE:0
UID:UW-Physics-Event-2799
DTSTART:20121015T213000Z
DURATION:PT1H0M0S
DTSTAMP:20260420T034833Z
LAST-MODIFIED:20120928T161506Z
LOCATION:5310 Chamberlin
SUMMARY:Electronic and structural correlations at oxide interfaces\, C
 ondensed Matter Theory Group Seminar\, Mark Rzchowski
DESCRIPTION:
URL:https://www.physics.wisc.edu/events/?id=2799
END:VEVENT
END:VCALENDAR
