BEGIN:VCALENDAR
VERSION:2.0
CALSCALE:GREGORIAN
PRODID:UW-Madison-Physics-Events
BEGIN:VEVENT
SEQUENCE:0
UID:UW-Physics-Event-2801
DTSTART:20121119T223000Z
DURATION:PT1H0M0S
DTSTAMP:20260420T021319Z
LAST-MODIFIED:20121112T172501Z
LOCATION:5310 Chamberlin
SUMMARY:The Anderson-Higgs mechanism in Condensed Matter Physics\, Con
 densed Matter Theory Group Seminar\, Dushko Kuzmanovski & Saurabh Mait
 i
DESCRIPTION:With recent renewed interest in the Higgs mechanism after 
 the announced discovery of the Higgs particle by experimental groups a
 t the LHC\, it is instructive to remind oneself of its manifestations 
 in Condensed Matter Physics phenomena. We give a pedagogic overview of
  the topic of spontaneous symmetry breaking and the role of gauge symm
 etries. We also try to assess the role that P.W. Anderson had played i
 n the formulation of the mechanism from a historical perspective. Fina
 lly\, we put things into perspective of the electroweak gauge symmetry
  breaking. 
URL:https://www.physics.wisc.edu/events/?id=2801
END:VEVENT
END:VCALENDAR
