BEGIN:VCALENDAR
VERSION:2.0
CALSCALE:GREGORIAN
PRODID:UW-Madison-Physics-Events
BEGIN:VEVENT
SEQUENCE:0
UID:UW-Physics-Event-2805
DTSTART:20121004T150000Z
DURATION:PT1H0M0S
DTSTAMP:20260420T021325Z
LAST-MODIFIED:20120919T134114Z
LOCATION:5310 Chamberlin
SUMMARY:No Herb Seminar -- Atomic Seminar held at this time\, R. G. He
 rb Condensed Matter Seminar
DESCRIPTION:
URL:https://www.physics.wisc.edu/events/?id=2805
END:VEVENT
END:VCALENDAR
