BEGIN:VCALENDAR
VERSION:2.0
CALSCALE:GREGORIAN
PRODID:UW-Madison-Physics-Events
BEGIN:VEVENT
SEQUENCE:0
UID:UW-Physics-Event-2813
DTSTART:20121009T170500Z
DURATION:PT1H0M0S
DTSTAMP:20260420T034851Z
LAST-MODIFIED:20120921T203556Z
LOCATION:4274 Chamberlin (refreshments will be served)
SUMMARY:A few things that we learned from Galileo\, and a few things w
 e didn't\, Chaos & Complex Systems Seminar\,  Jim Lattis\, Director\, 
 Director\, UW Space Place\, UW Department of Astronomy
DESCRIPTION:There are quite a few myths and misunderstandings about Ga
 lileo's scientific career\, many of them commonly propagated by scient
 ists in the classroom. This historical talk will endeavor to examine a
 nd correct some common myths about Galileo and to highlight some of th
 e lessons that we should take away from the events of his tumultuous l
 ife.\n\n
URL:https://www.physics.wisc.edu/events/?id=2813
END:VEVENT
END:VCALENDAR
