BEGIN:VCALENDAR
VERSION:2.0
CALSCALE:GREGORIAN
PRODID:UW-Madison-Physics-Events
BEGIN:VEVENT
SEQUENCE:0
UID:UW-Physics-Event-2819
DTSTART:20121106T210000Z
DTEND:20121106T220000Z
DTSTAMP:20260420T021630Z
LAST-MODIFIED:20121001T020513Z
LOCATION:4274 Chamberlin
SUMMARY:W Mass From CDF\, High Energy Seminar\, Ashutosh Kotwal\, Duke
  University
DESCRIPTION:
URL:https://www.physics.wisc.edu/events/?id=2819
END:VEVENT
END:VCALENDAR
