BEGIN:VCALENDAR
VERSION:2.0
CALSCALE:GREGORIAN
PRODID:UW-Madison-Physics-Events
BEGIN:VEVENT
SEQUENCE:0
UID:UW-Physics-Event-2823
DTSTART:20121115T203000Z
DURATION:PT1H0M0S
DTSTAMP:20260420T034829Z
LAST-MODIFIED:20121112T143015Z
LOCATION:4274 Chamberlin
SUMMARY:Neutrino Oscillations: Present Status and Future Plans\, NPAC 
 (Nuclear/Particle/Astro/Cosmo) Forum\, Jenny Thomas\, University Colle
 ge London
DESCRIPTION:I will give an overview of the status of the field focussi
 ng on the implication of the new results from the summer conferences f
 or the future direction. I will then talk about some of the more excit
 ing and innovative options for the future\, specifically with FNAL's N
 uMI beam. <br>\n
URL:https://www.physics.wisc.edu/events/?id=2823
END:VEVENT
END:VCALENDAR
