BEGIN:VCALENDAR
VERSION:2.0
CALSCALE:GREGORIAN
PRODID:UW-Madison-Physics-Events
BEGIN:VEVENT
SEQUENCE:0
UID:UW-Physics-Event-2828
DTSTART:20121030T170500Z
DURATION:PT1H0M0S
DTSTAMP:20260420T021532Z
LAST-MODIFIED:20121011T182252Z
LOCATION:4274 Chamberlin (refreshments will be served)
SUMMARY:The role of the lunar cycles in human evolution\, Chaos & Comp
 lex Systems Seminar\,  Art Schmaltz\, Prairie State College
DESCRIPTION:The moon and lunar cycles are connected to Earth's biologi
 cal life in diverse and innumerably ways. In all human societies\, the
  moon as "symbol" is deeply entwined in mythology.\n\nRecent archaeo
 logical discoveries now reveal that the moon and lunar cycles played a
  crucial role in human and physical and cognitive evolution.\n\n
URL:https://www.physics.wisc.edu/events/?id=2828
END:VEVENT
END:VCALENDAR
